BEGIN:VCALENDAR
VERSION:2.0
PRODID:-//Cinna&#039;s Bio-Leckerlis - einfach.gesund - ECPv6.15.20//NONSGML v1.0//EN
CALSCALE:GREGORIAN
METHOD:PUBLISH
X-WR-CALNAME:Cinna&#039;s Bio-Leckerlis - einfach.gesund
X-ORIGINAL-URL:https://www.cinnas.at
X-WR-CALDESC:Veranstaltungen für Cinna&#039;s Bio-Leckerlis - einfach.gesund
REFRESH-INTERVAL;VALUE=DURATION:PT1H
X-Robots-Tag:noindex
X-PUBLISHED-TTL:PT1H
BEGIN:VTIMEZONE
TZID:Europe/Vienna
BEGIN:DAYLIGHT
TZOFFSETFROM:+0100
TZOFFSETTO:+0200
TZNAME:CEST
DTSTART:20230326T010000
END:DAYLIGHT
BEGIN:STANDARD
TZOFFSETFROM:+0200
TZOFFSETTO:+0100
TZNAME:CET
DTSTART:20231029T010000
END:STANDARD
BEGIN:DAYLIGHT
TZOFFSETFROM:+0100
TZOFFSETTO:+0200
TZNAME:CEST
DTSTART:20240331T010000
END:DAYLIGHT
BEGIN:STANDARD
TZOFFSETFROM:+0200
TZOFFSETTO:+0100
TZNAME:CET
DTSTART:20241027T010000
END:STANDARD
BEGIN:DAYLIGHT
TZOFFSETFROM:+0100
TZOFFSETTO:+0200
TZNAME:CEST
DTSTART:20250330T010000
END:DAYLIGHT
BEGIN:STANDARD
TZOFFSETFROM:+0200
TZOFFSETTO:+0100
TZNAME:CET
DTSTART:20251026T010000
END:STANDARD
BEGIN:DAYLIGHT
TZOFFSETFROM:+0100
TZOFFSETTO:+0200
TZNAME:CEST
DTSTART:20260329T010000
END:DAYLIGHT
BEGIN:STANDARD
TZOFFSETFROM:+0200
TZOFFSETTO:+0100
TZNAME:CET
DTSTART:20261025T010000
END:STANDARD
BEGIN:DAYLIGHT
TZOFFSETFROM:+0100
TZOFFSETTO:+0200
TZNAME:CEST
DTSTART:20270328T010000
END:DAYLIGHT
BEGIN:STANDARD
TZOFFSETFROM:+0200
TZOFFSETTO:+0100
TZNAME:CET
DTSTART:20271031T010000
END:STANDARD
END:VTIMEZONE
BEGIN:VEVENT
DTSTART;TZID=Europe/Vienna:20260228T000000
DTEND;TZID=Europe/Vienna:20260301T235959
DTSTAMP:20260420T065228
CREATED:20260219T193018Z
LAST-MODIFIED:20260219T195017Z
UID:4015-1772236800-1772409599@www.cinnas.at
SUMMARY:Haustiermesse Wien
DESCRIPTION:
URL:https://www.cinnas.at/event/haustiermesse-wien/
LOCATION:Marx Halle\, Karl-Farkas-Gasse 19\, Wien\, 1030\, Austria
END:VEVENT
BEGIN:VEVENT
DTSTART;TZID=Europe/Vienna:20251212T000000
DTEND;TZID=Europe/Vienna:20251214T235959
DTSTAMP:20260420T065228
CREATED:20250825T122831Z
LAST-MODIFIED:20251121T181240Z
UID:3812-1765497600-1765756799@www.cinnas.at
SUMMARY:Hundeadvent
DESCRIPTION:
URL:https://www.cinnas.at/event/hundeadvent/
LOCATION:Schloss Neugebäude\, Otmar Brix Gasse 1\, Wien\, 1110
END:VEVENT
BEGIN:VEVENT
DTSTART;TZID=Europe/Vienna:20251206T000000
DTEND;TZID=Europe/Vienna:20251207T235959
DTSTAMP:20260420T065228
CREATED:20250825T122637Z
LAST-MODIFIED:20250825T122638Z
UID:3810-1764979200-1765151999@www.cinnas.at
SUMMARY:Hundeweihnachtsmarkt Mauer
DESCRIPTION:
URL:https://www.cinnas.at/event/hundeweihnachtsmarkt-mauer-2/
LOCATION:Weingut und Heuriger Steinklammer\, Jesuitensteig 28\, Wien\, Wien\, 1230
END:VEVENT
BEGIN:VEVENT
DTSTART;TZID=Europe/Vienna:20251130T100000
DTEND;TZID=Europe/Vienna:20251130T160000
DTSTAMP:20260420T065228
CREATED:20250825T122502Z
LAST-MODIFIED:20250825T122503Z
UID:3807-1764496800-1764518400@www.cinnas.at
SUMMARY:Traiskirchner Hundeweihnachstsmarkt
DESCRIPTION:
URL:https://www.cinnas.at/event/traiskirchner-hundeweihnachstsmarkt/
LOCATION:Hundeverein Traiskirchen\, Hochmühlstraße 34\, Traiskirchen\, 2514
END:VEVENT
BEGIN:VEVENT
DTSTART;TZID=Europe/Vienna:20251122T133000
DTEND;TZID=Europe/Vienna:20251123T180000
DTSTAMP:20260420T065228
CREATED:20250708T134252Z
LAST-MODIFIED:20250708T134254Z
UID:3757-1763818200-1763920800@www.cinnas.at
SUMMARY:Hundeweihnachtsmarkt
DESCRIPTION:
URL:https://www.cinnas.at/event/hundeweihnachtsmarkt-2/
LOCATION:Hundsgut Hewera\, Haindlgasse 5\, Wien\, 1110
END:VEVENT
BEGIN:VEVENT
DTSTART;TZID=Europe/Vienna:20251114T000000
DTEND;TZID=Europe/Vienna:20251115T235959
DTSTAMP:20260420T065228
CREATED:20250311T154502Z
LAST-MODIFIED:20250311T154503Z
UID:3664-1763078400-1763251199@www.cinnas.at
SUMMARY:Wuffnachten 4.0 im Q19
DESCRIPTION:
URL:https://www.cinnas.at/event/wuffnachten-4-0-im-q19/
LOCATION:Q19 Shopping Center GmbH\, Grinzinger Straße 112\, Wien\, 1190\, Österreich
END:VEVENT
BEGIN:VEVENT
DTSTART;TZID=Europe/Vienna:20251018T000000
DTEND;TZID=Europe/Vienna:20251019T235959
DTSTAMP:20260420T065228
CREATED:20250708T133850Z
LAST-MODIFIED:20250708T133852Z
UID:3748-1760745600-1760918399@www.cinnas.at
SUMMARY:Unbeschreiblich weiblich
DESCRIPTION:
URL:https://www.cinnas.at/event/unbeschreiblich-weiblich/
LOCATION:Orangerie Eisenstadt\, Im Schlosspark\, Eisenstadt\, 7000
END:VEVENT
BEGIN:VEVENT
DTSTART;TZID=Europe/Vienna:20251012T090000
DTEND;TZID=Europe/Vienna:20251012T170000
DTSTAMP:20260420T065228
CREATED:20250708T134040Z
LAST-MODIFIED:20250708T134042Z
UID:3753-1760259600-1760288400@www.cinnas.at
SUMMARY:Rund ums Tier
DESCRIPTION:
URL:https://www.cinnas.at/event/rund-ums-tier/
LOCATION:Leopold Grünzweig Zentrum\, Kindergartengasse 7\, Sollenau\, 2601
END:VEVENT
BEGIN:VEVENT
DTSTART;TZID=Europe/Vienna:20251010T000000
DTEND;TZID=Europe/Vienna:20251010T235959
DTSTAMP:20260420T065228
CREATED:20250311T154351Z
LAST-MODIFIED:20250311T154353Z
UID:3662-1760054400-1760140799@www.cinnas.at
SUMMARY:Welthundetag im Q19
DESCRIPTION:
URL:https://www.cinnas.at/event/welthundetag-im-q19/
LOCATION:Q19 Shopping Center GmbH\, Grinzinger Straße 112\, Wien\, 1190\, Österreich
END:VEVENT
BEGIN:VEVENT
DTSTART;TZID=Europe/Vienna:20251003T000000
DTEND;TZID=Europe/Vienna:20251004T235959
DTSTAMP:20260420T065228
CREATED:20250708T133154Z
LAST-MODIFIED:20250817T163756Z
UID:3744-1759449600-1759622399@www.cinnas.at
SUMMARY:Felloween goes Westfield Donau Zentrum
DESCRIPTION:
URL:https://www.cinnas.at/event/felloween-goes-westfield-donau-zentrum/
LOCATION:Donauzentrum\, Wagramer Str. 94\, Wien\, 1220
END:VEVENT
BEGIN:VEVENT
DTSTART;TZID=Europe/Vienna:20250926T000000
DTEND;TZID=Europe/Vienna:20250927T235959
DTSTAMP:20260420T065228
CREATED:20250708T132217Z
LAST-MODIFIED:20250708T132221Z
UID:3732-1758844800-1759017599@www.cinnas.at
SUMMARY:HumaEleven
DESCRIPTION:
URL:https://www.cinnas.at/event/humaeleven/
LOCATION:HumaEleven\, Landwehrstraße 6\, Wien\, 1110
END:VEVENT
BEGIN:VEVENT
DTSTART;TZID=Europe/Vienna:20250919T000000
DTEND;TZID=Europe/Vienna:20250920T235959
DTSTAMP:20260420T065228
CREATED:20250708T133003Z
LAST-MODIFIED:20250825T122132Z
UID:3740-1758240000-1758412799@www.cinnas.at
SUMMARY:Mit Pfotenzauber und Schnauzentrubel in den Herbst
DESCRIPTION:
URL:https://www.cinnas.at/event/mit-pfotenzauber-und-schnauzentrubel-in-den-herbst/
LOCATION:SCS\, Vösendorfer Südring\, Vösendorf\, 2334
END:VEVENT
BEGIN:VEVENT
DTSTART;TZID=Europe/Vienna:20250906T000000
DTEND;TZID=Europe/Vienna:20250907T235959
DTSTAMP:20260420T065228
CREATED:20250825T122002Z
LAST-MODIFIED:20250825T122008Z
UID:3804-1757116800-1757289599@www.cinnas.at
SUMMARY:Haustier aktuell
DESCRIPTION:
URL:https://www.cinnas.at/event/haustier-aktuell-2/
LOCATION:Arena Nova\, Wr. Neustadt\, Rudolf Diesel-Straße 30\, Wiener Neustadt\, 2700
END:VEVENT
BEGIN:VEVENT
DTSTART;TZID=Europe/Vienna:20250829T000000
DTEND;TZID=Europe/Vienna:20250831T235959
DTSTAMP:20260420T065228
CREATED:20250708T132443Z
LAST-MODIFIED:20250708T132445Z
UID:3736-1756425600-1756684799@www.cinnas.at
SUMMARY:KunterBunt
DESCRIPTION:
URL:https://www.cinnas.at/event/kunterbunt/
LOCATION:Schloss Laxenburg\, Schloßplatz 1\, Laxenburg\, 2361
END:VEVENT
BEGIN:VEVENT
DTSTART;TZID=Europe/Vienna:20250614T000000
DTEND;TZID=Europe/Vienna:20250614T235959
DTSTAMP:20260420T065228
CREATED:20250311T154224Z
LAST-MODIFIED:20250311T154226Z
UID:3660-1749859200-1749945599@www.cinnas.at
SUMMARY:Hot Dogs & Cool Cats
DESCRIPTION:
URL:https://www.cinnas.at/event/hot-dogs-cool-cats/
LOCATION:Alszeilenmarkt\, Leopold-Kunschak-Platz\, Wien\, 1170
END:VEVENT
BEGIN:VEVENT
DTSTART;TZID=Europe/Vienna:20250608T100000
DTEND;TZID=Europe/Vienna:20250608T180000
DTSTAMP:20260420T065228
CREATED:20250311T154643Z
LAST-MODIFIED:20250602T172236Z
UID:3666-1749376800-1749405600@www.cinnas.at
SUMMARY:Hundetag Baden
DESCRIPTION:
URL:https://www.cinnas.at/event/hundetag-baden/
LOCATION:Trabrennbahn Baden\, Mühlgasse 69\, Baden\, 2500
END:VEVENT
BEGIN:VEVENT
DTSTART;TZID=Europe/Vienna:20250412T000000
DTEND;TZID=Europe/Vienna:20250412T235959
DTSTAMP:20260420T065228
CREATED:20250311T154132Z
LAST-MODIFIED:20250311T154134Z
UID:3658-1744416000-1744502399@www.cinnas.at
SUMMARY:Großes Oster-WauWau auf der Alszeile
DESCRIPTION:
URL:https://www.cinnas.at/event/grosses-oster-wauwau-auf-der-alszeile/
LOCATION:Alszeilenmarkt\, Leopold-Kunschak-Platz\, Wien\, 1170
END:VEVENT
BEGIN:VEVENT
DTSTART;TZID=Europe/Vienna:20250329T110000
DTEND;TZID=Europe/Vienna:20250329T170000
DTSTAMP:20260420T065228
CREATED:20250311T155839Z
LAST-MODIFIED:20250311T155841Z
UID:3670-1743246000-1743267600@www.cinnas.at
SUMMARY:Pfotenostern
DESCRIPTION:
URL:https://www.cinnas.at/event/pfotenostern/
LOCATION:Doggies Couture\, Dammgasse 4-6\, Gänserndorf\, 2230\, Austria
END:VEVENT
BEGIN:VEVENT
DTSTART;TZID=Europe/Vienna:20250321T000000
DTEND;TZID=Europe/Vienna:20250322T235959
DTSTAMP:20260420T065228
CREATED:20250311T154015Z
LAST-MODIFIED:20250311T154017Z
UID:3656-1742515200-1742687999@www.cinnas.at
SUMMARY:Pfotenfrühling Hund & Katz
DESCRIPTION:
URL:https://www.cinnas.at/event/pfotenfruehling-hund-katz/
LOCATION:Q19 Shopping Center GmbH\, Grinzinger Straße 112\, Wien\, 1190\, Österreich
END:VEVENT
BEGIN:VEVENT
DTSTART;TZID=Europe/Vienna:20241214T000000
DTEND;TZID=Europe/Vienna:20241215T235959
DTSTAMP:20260420T065228
CREATED:20241109T151516Z
LAST-MODIFIED:20241109T151546Z
UID:3563-1734134400-1734307199@www.cinnas.at
SUMMARY:Hundeadvent Wien
DESCRIPTION:Samstag von 10-19  Uhr\, Sonntag von 10-18 Uhr
URL:https://www.cinnas.at/event/hundeadvent-wien/
LOCATION:Schloss Neugebäude\, Otmar Brix Gasse 1\, Wien\, 1110
END:VEVENT
BEGIN:VEVENT
DTSTART;TZID=Europe/Vienna:20241207T000000
DTEND;TZID=Europe/Vienna:20241208T235959
DTSTAMP:20260420T065228
CREATED:20241109T152031Z
LAST-MODIFIED:20241109T152032Z
UID:3568-1733529600-1733702399@www.cinnas.at
SUMMARY:Hundeweihnachtsmarkt Mauer
DESCRIPTION:Jeweils von 10-18:00
URL:https://www.cinnas.at/event/hundeweihnachtsmarkt-mauer/
LOCATION:Weingut und Heuriger Steinklammer\, Jesuitensteig 28\, Wien\, Wien\, 1230
END:VEVENT
BEGIN:VEVENT
DTSTART;TZID=Europe/Vienna:20241206T000000
DTEND;TZID=Europe/Vienna:20241207T235959
DTSTAMP:20260420T065228
CREATED:20240719T163003Z
LAST-MODIFIED:20240719T163005Z
UID:3471-1733443200-1733615999@www.cinnas.at
SUMMARY:Hundeweihnachtsmarkt
DESCRIPTION:jeweils von 14:00 bis 20:00
URL:https://www.cinnas.at/event/hundeweihnachtsmarkt/
LOCATION:Hundsgut Hewera\, Haindlgasse 5\, Wien\, 1110
END:VEVENT
BEGIN:VEVENT
DTSTART;TZID=Europe/Vienna:20241201T100000
DTEND;TZID=Europe/Vienna:20241201T160000
DTSTAMP:20260420T065228
CREATED:20240421T104115Z
LAST-MODIFIED:20240421T104116Z
UID:3395-1733047200-1733068800@www.cinnas.at
SUMMARY:Traiskirchner Hundeweihnachtsmarkt
DESCRIPTION:
URL:https://www.cinnas.at/event/traiskirchner-hundeweihnachtsmarkt/
LOCATION:Hundeverein Traiskirchen\, Hochmühlstraße 34\, Traiskirchen\, 2514
END:VEVENT
BEGIN:VEVENT
DTSTART;TZID=Europe/Vienna:20241130T000000
DTEND;TZID=Europe/Vienna:20241130T235959
DTSTAMP:20260420T065228
CREATED:20240315T111647Z
LAST-MODIFIED:20240315T111648Z
UID:3381-1732924800-1733011199@www.cinnas.at
SUMMARY:Alszeilenmarkt Wuffnachten 3.0
DESCRIPTION:
URL:https://www.cinnas.at/event/alszeilenmarkt-wuffnachten-3-0/
LOCATION:Alszeilenmarkt\, Leopold-Kunschak-Platz\, Wien\, 1170
END:VEVENT
BEGIN:VEVENT
DTSTART;TZID=Europe/Vienna:20241018T000000
DTEND;TZID=Europe/Vienna:20241019T235959
DTSTAMP:20260420T065228
CREATED:20240315T111424Z
LAST-MODIFIED:20240315T111425Z
UID:3379-1729209600-1729382399@www.cinnas.at
SUMMARY:Hundstage im Q19
DESCRIPTION:
URL:https://www.cinnas.at/event/hundstage-im-q19-2/
LOCATION:Q19 Shopping Center GmbH\, Grinzinger Straße 112\, Wien\, 1190\, Österreich
END:VEVENT
BEGIN:VEVENT
DTSTART;TZID=Europe/Vienna:20240914T000000
DTEND;TZID=Europe/Vienna:20240914T235959
DTSTAMP:20260420T065228
CREATED:20240315T111040Z
LAST-MODIFIED:20240315T111042Z
UID:3377-1726272000-1726358399@www.cinnas.at
SUMMARY:Alszeilenmarkt
DESCRIPTION:
URL:https://www.cinnas.at/event/alszeilenmarkt/
LOCATION:Alszeilenmarkt\, Leopold-Kunschak-Platz\, Wien\, 1170
END:VEVENT
BEGIN:VEVENT
DTSTART;TZID=Europe/Vienna:20240907T000000
DTEND;TZID=Europe/Vienna:20240908T235959
DTSTAMP:20260420T065228
CREATED:20240719T162413Z
LAST-MODIFIED:20240719T162414Z
UID:3458-1725667200-1725839999@www.cinnas.at
SUMMARY:Haustier Aktuell
DESCRIPTION:
URL:https://www.cinnas.at/event/haustier-aktuell/
LOCATION:Arena Nova\, Wr. Neustadt\, Rudolf Diesel-Straße 30\, Wiener Neustadt\, 2700
END:VEVENT
BEGIN:VEVENT
DTSTART;TZID=Europe/Vienna:20240830T000000
DTEND;TZID=Europe/Vienna:20240830T235959
DTSTAMP:20260420T065228
CREATED:20240719T162526Z
LAST-MODIFIED:20240719T162527Z
UID:3374-1724976000-1725062399@www.cinnas.at
SUMMARY:Lange Nacht der Wiener Märkte
DESCRIPTION:Naschmarkt am Hauptgang
URL:https://www.cinnas.at/event/lange-nacht-der-wiener-maerkte/
LOCATION:Naschmarkt\, Naschmarkt\, Wien\, 1060
END:VEVENT
BEGIN:VEVENT
DTSTART;TZID=Europe/Vienna:20240629T000000
DTEND;TZID=Europe/Vienna:20240629T235959
DTSTAMP:20260420T065228
CREATED:20240315T105421Z
LAST-MODIFIED:20240315T105423Z
UID:3370-1719619200-1719705599@www.cinnas.at
SUMMARY:Sommerstart am Alszeilenmarkt
DESCRIPTION:
URL:https://www.cinnas.at/event/sommerstart-am-alszeilenmarkt/
LOCATION:Alszeilenmarkt\, Leopold-Kunschak-Platz\, Wien\, 1170
END:VEVENT
BEGIN:VEVENT
DTSTART;TZID=Europe/Vienna:20240623T000000
DTEND;TZID=Europe/Vienna:20240623T235959
DTSTAMP:20260420T065228
CREATED:20240613T165509Z
LAST-MODIFIED:20240613T165606Z
UID:3428-1719100800-1719187199@www.cinnas.at
SUMMARY:Setter-Derby
DESCRIPTION:
URL:https://www.cinnas.at/event/setter-derby/
LOCATION:Burg Liechtenstein\, Am Hausberg 2\, Maria Enzersdorf\, 2344\, Österreich
END:VEVENT
END:VCALENDAR