BEGIN:VCALENDAR
VERSION:2.0
PRODID:-//Cinna&#039;s Bio-Leckerlis - einfach.gesund - ECPv6.15.20//NONSGML v1.0//EN
CALSCALE:GREGORIAN
METHOD:PUBLISH
X-ORIGINAL-URL:https://www.cinnas.at
X-WR-CALDESC:Veranstaltungen für Cinna&#039;s Bio-Leckerlis - einfach.gesund
REFRESH-INTERVAL;VALUE=DURATION:PT1H
X-Robots-Tag:noindex
X-PUBLISHED-TTL:PT1H
BEGIN:VTIMEZONE
TZID:Europe/Vienna
BEGIN:DAYLIGHT
TZOFFSETFROM:+0100
TZOFFSETTO:+0200
TZNAME:CEST
DTSTART:20250330T010000
END:DAYLIGHT
BEGIN:STANDARD
TZOFFSETFROM:+0200
TZOFFSETTO:+0100
TZNAME:CET
DTSTART:20251026T010000
END:STANDARD
BEGIN:DAYLIGHT
TZOFFSETFROM:+0100
TZOFFSETTO:+0200
TZNAME:CEST
DTSTART:20260329T010000
END:DAYLIGHT
BEGIN:STANDARD
TZOFFSETFROM:+0200
TZOFFSETTO:+0100
TZNAME:CET
DTSTART:20261025T010000
END:STANDARD
BEGIN:DAYLIGHT
TZOFFSETFROM:+0100
TZOFFSETTO:+0200
TZNAME:CEST
DTSTART:20270328T010000
END:DAYLIGHT
BEGIN:STANDARD
TZOFFSETFROM:+0200
TZOFFSETTO:+0100
TZNAME:CET
DTSTART:20271031T010000
END:STANDARD
END:VTIMEZONE
BEGIN:VEVENT
DTSTART;TZID=Europe/Vienna:20260607T100000
DTEND;TZID=Europe/Vienna:20260607T180000
DTSTAMP:20260420T050714
CREATED:20260309T191917Z
LAST-MODIFIED:20260309T192153Z
UID:4054-1780826400-1780855200@www.cinnas.at
SUMMARY:Hundetag Baden 2026
DESCRIPTION:Österreichs größtes Hunde-Open-Air bietet großartige Bio-Leckerlis von Cinnas\, weitere Aussteller\, Mitmachstationen\, Vorführungen und kulinarische Angebote.
URL:https://www.cinnas.at/event/hundetag-baden-2026/
LOCATION:Trabrennbahn Baden\, Mühlgasse 69\, Baden\, 2500
END:VEVENT
END:VCALENDAR